Package: bcSeq Version: 1.30.0 Command: /home/biocbuild/R/R/bin/R CMD build --keep-empty-dirs --no-resave-data bcSeq StartedAt: 2025-10-13 22:53:53 -0000 (Mon, 13 Oct 2025) EndedAt: 2025-10-13 22:54:58 -0000 (Mon, 13 Oct 2025) EllapsedTime: 65.0 seconds RetCode: 0 Status: OK PackageFile: bcSeq_1.30.0.tar.gz PackageFileSize: 227.8 KiB