Package: baySeq Version: 2.42.0 Command: /home/biocbuild/bbs-3.21-bioc/R/bin/R CMD INSTALL baySeq StartedAt: 2025-10-15 15:15:09 -0400 (Wed, 15 Oct 2025) EndedAt: 2025-10-15 15:15:26 -0400 (Wed, 15 Oct 2025) EllapsedTime: 16.7 seconds RetCode: 0 Status: OK