Package: baySeq Version: 2.42.0 Command: /home/biocbuild/R/R/bin/R CMD INSTALL baySeq StartedAt: 2025-10-13 20:27:32 -0000 (Mon, 13 Oct 2025) EndedAt: 2025-10-13 20:27:55 -0000 (Mon, 13 Oct 2025) EllapsedTime: 23.5 seconds RetCode: 0 Status: OK