Package: baySeq Version: 2.42.0 Command: /home/biocbuild/R/R/bin/R CMD build --keep-empty-dirs --no-resave-data baySeq StartedAt: 2025-10-13 22:51:17 -0000 (Mon, 13 Oct 2025) EndedAt: 2025-10-13 23:00:45 -0000 (Mon, 13 Oct 2025) EllapsedTime: 568.1 seconds RetCode: 0 Status: OK PackageFile: baySeq_2.42.0.tar.gz PackageFileSize: 1.109 MiB