Package: batchelor Version: 1.24.0 Command: /home/biocbuild/R/R/bin/R CMD build --keep-empty-dirs --no-resave-data batchelor StartedAt: 2025-10-13 22:48:13 -0000 (Mon, 13 Oct 2025) EndedAt: 2025-10-13 22:54:12 -0000 (Mon, 13 Oct 2025) EllapsedTime: 359.1 seconds RetCode: 0 Status: OK PackageFile: batchelor_1.24.0.tar.gz PackageFileSize: 2.037 MiB