Package: batchelor Version: 1.24.0 Command: /Library/Frameworks/R.framework/Resources/bin/R CMD build --keep-empty-dirs --no-resave-data batchelor StartedAt: 2025-10-13 19:38:20 -0400 (Mon, 13 Oct 2025) EndedAt: 2025-10-13 19:41:28 -0400 (Mon, 13 Oct 2025) EllapsedTime: 188.7 seconds RetCode: 0 Status: OK PackageFile: batchelor_1.24.0.tar.gz PackageFileSize: 2.097 MiB