Package: batchelor Version: 1.24.0 Command: rm -rf batchelor.buildbin-libdir && mkdir batchelor.buildbin-libdir && /Users/biocbuild/BBS/utils/build-universal.sh batchelor_1.24.0.tar.gz /Library/Frameworks/R.framework/Resources/bin/R batchelor.buildbin-libdir StartedAt: 2025-10-15 17:30:46 -0400 (Wed, 15 Oct 2025) EndedAt: 2025-10-15 17:31:39 -0400 (Wed, 15 Oct 2025) EllapsedTime: 53.2 seconds RetCode: 0 Status: OK PackageFile: batchelor_1.24.0.tgz PackageFileSize: 2.322 MiB