Package: basilisk Version: 1.20.0 Command: /Library/Frameworks/R.framework/Resources/bin/R CMD build --keep-empty-dirs --no-resave-data basilisk StartedAt: 2025-10-13 17:12:36 -0400 (Mon, 13 Oct 2025) EndedAt: 2025-10-13 17:22:47 -0400 (Mon, 13 Oct 2025) EllapsedTime: 610.7 seconds RetCode: 0 Status: OK PackageFile: basilisk_1.20.0.tar.gz PackageFileSize: 263.7 KiB