Package: basilisk Version: 1.20.0 Command: /home/biocbuild/R/R/bin/R CMD INSTALL basilisk StartedAt: 2025-10-13 20:22:30 -0000 (Mon, 13 Oct 2025) EndedAt: 2025-10-13 20:22:49 -0000 (Mon, 13 Oct 2025) EllapsedTime: 18.8 seconds RetCode: 0 Status: OK