Package: basilisk Version: 1.20.0 Command: /home/biocbuild/R/R/bin/R CMD build --keep-empty-dirs --no-resave-data basilisk StartedAt: 2025-10-13 22:47:31 -0000 (Mon, 13 Oct 2025) EndedAt: 2025-10-13 22:50:03 -0000 (Mon, 13 Oct 2025) EllapsedTime: 152.0 seconds RetCode: 0 Status: OK PackageFile: basilisk_1.20.0.tar.gz PackageFileSize: 289.7 KiB