Package: basilisk Version: 1.20.0 Command: rm -rf basilisk.buildbin-libdir && mkdir basilisk.buildbin-libdir && /Users/biocbuild/BBS/utils/build-universal.sh basilisk_1.20.0.tar.gz /Library/Frameworks/R.framework/Resources/bin/R basilisk.buildbin-libdir StartedAt: 2025-10-15 17:30:36 -0400 (Wed, 15 Oct 2025) EndedAt: 2025-10-15 17:30:46 -0400 (Wed, 15 Oct 2025) EllapsedTime: 10.2 seconds RetCode: 0 Status: OK PackageFile: basilisk_1.20.0.tgz PackageFileSize: 311 KiB