Package: basilisk.utils Version: 1.20.0 Command: /home/biocbuild/R/R/bin/R CMD INSTALL basilisk.utils StartedAt: 2025-10-13 20:15:02 -0000 (Mon, 13 Oct 2025) EndedAt: 2025-10-13 20:15:20 -0000 (Mon, 13 Oct 2025) EllapsedTime: 18.3 seconds RetCode: 0 Status: OK