Package: basilisk.utils Version: 1.20.0 Command: /home/biocbuild/R/R/bin/R CMD build --keep-empty-dirs --no-resave-data basilisk.utils StartedAt: 2025-10-13 22:48:08 -0000 (Mon, 13 Oct 2025) EndedAt: 2025-10-13 22:48:13 -0000 (Mon, 13 Oct 2025) EllapsedTime: 5.0 seconds RetCode: 0 Status: OK PackageFile: basilisk.utils_1.20.0.tar.gz PackageFileSize: 261.3 KiB