Package: basilisk.utils Version: 1.20.0 Command: /Library/Frameworks/R.framework/Resources/bin/R CMD INSTALL basilisk.utils StartedAt: 2025-10-13 15:13:38 -0400 (Mon, 13 Oct 2025) EndedAt: 2025-10-13 15:13:42 -0400 (Mon, 13 Oct 2025) EllapsedTime: 3.9 seconds RetCode: 0 Status: OK