Package: bacon Version: 1.36.0 Command: /home/biocbuild/R/R/bin/R CMD INSTALL bacon StartedAt: 2025-10-13 20:18:39 -0000 (Mon, 13 Oct 2025) EndedAt: 2025-10-13 20:18:55 -0000 (Mon, 13 Oct 2025) EllapsedTime: 16.1 seconds RetCode: 0 Status: OK