Package: bacon Version: 1.36.0 Command: /home/biocbuild/R/R/bin/R CMD build --keep-empty-dirs --no-resave-data bacon StartedAt: 2025-10-13 22:42:24 -0000 (Mon, 13 Oct 2025) EndedAt: 2025-10-13 22:43:30 -0000 (Mon, 13 Oct 2025) EllapsedTime: 66.0 seconds RetCode: 0 Status: OK PackageFile: bacon_1.36.0.tar.gz PackageFileSize: 1.883 MiB