Package: arrayQualityMetrics Version: 3.64.0 Command: /home/biocbuild/bbs-3.21-bioc/R/bin/R CMD build --keep-empty-dirs --no-resave-data arrayQualityMetrics StartedAt: 2025-10-15 16:11:45 -0400 (Wed, 15 Oct 2025) EndedAt: 2025-10-15 16:18:17 -0400 (Wed, 15 Oct 2025) EllapsedTime: 392.4 seconds RetCode: 0 Status: OK PackageFile: arrayQualityMetrics_3.64.0.tar.gz PackageFileSize: 597.1 KiB