Package: arrayQualityMetrics Version: 3.64.0 Command: /Library/Frameworks/R.framework/Resources/bin/R CMD INSTALL arrayQualityMetrics StartedAt: 2025-10-13 15:55:01 -0400 (Mon, 13 Oct 2025) EndedAt: 2025-10-13 15:55:55 -0400 (Mon, 13 Oct 2025) EllapsedTime: 53.9 seconds RetCode: 0 Status: OK