Package: arrayQualityMetrics Version: 3.64.0 Command: /Library/Frameworks/R.framework/Resources/bin/R CMD build --keep-empty-dirs --no-resave-data arrayQualityMetrics StartedAt: 2025-10-13 17:05:12 -0400 (Mon, 13 Oct 2025) EndedAt: 2025-10-13 17:16:47 -0400 (Mon, 13 Oct 2025) EllapsedTime: 694.7 seconds RetCode: 0 Status: OK PackageFile: arrayQualityMetrics_3.64.0.tar.gz PackageFileSize: 595.7 KiB