Package: arrayQualityMetrics Version: 3.64.0 Command: rm -rf arrayQualityMetrics.buildbin-libdir && mkdir arrayQualityMetrics.buildbin-libdir && /Users/biocbuild/BBS/utils/build-universal.sh arrayQualityMetrics_3.64.0.tar.gz /Library/Frameworks/R.framework/Resources/bin/R arrayQualityMetrics.buildbin-libdir StartedAt: 2025-10-14 12:50:47 -0400 (Tue, 14 Oct 2025) EndedAt: 2025-10-14 12:51:46 -0400 (Tue, 14 Oct 2025) EllapsedTime: 59.4 seconds RetCode: 0 Status: OK PackageFile: arrayQualityMetrics_3.64.0.tgz PackageFileSize: 557.3 KiB