Package: arrayQualityMetrics Version: 3.64.0 Command: /home/biocbuild/R/R/bin/R CMD build --keep-empty-dirs --no-resave-data arrayQualityMetrics StartedAt: 2025-10-13 22:37:21 -0000 (Mon, 13 Oct 2025) EndedAt: 2025-10-13 22:45:18 -0000 (Mon, 13 Oct 2025) EllapsedTime: 476.1 seconds RetCode: 0 Status: OK PackageFile: arrayQualityMetrics_3.64.0.tar.gz PackageFileSize: 584.2 KiB