Package: arrayQuality Version: 1.86.0 Command: /home/biocbuild/bbs-3.21-bioc/R/bin/R CMD INSTALL arrayQuality StartedAt: 2025-10-15 15:04:04 -0400 (Wed, 15 Oct 2025) EndedAt: 2025-10-15 15:04:22 -0400 (Wed, 15 Oct 2025) EllapsedTime: 18.1 seconds RetCode: 0 Status: OK