Package: arrayQuality Version: 1.86.0 Command: /home/biocbuild/bbs-3.21-bioc/R/bin/R CMD build --keep-empty-dirs --no-resave-data arrayQuality StartedAt: 2025-10-15 16:11:36 -0400 (Wed, 15 Oct 2025) EndedAt: 2025-10-15 16:11:45 -0400 (Wed, 15 Oct 2025) EllapsedTime: 9.0 seconds RetCode: 0 Status: OK PackageFile: arrayQuality_1.86.0.tar.gz PackageFileSize: 12.82 MiB