Package: arrayQuality Version: 1.86.0 Command: /Library/Frameworks/R.framework/Resources/bin/R CMD INSTALL arrayQuality StartedAt: 2025-10-13 15:09:10 -0400 (Mon, 13 Oct 2025) EndedAt: 2025-10-13 15:09:42 -0400 (Mon, 13 Oct 2025) EllapsedTime: 32.3 seconds RetCode: 0 Status: OK