Package: arrayQuality Version: 1.86.0 Command: rm -rf arrayQuality.buildbin-libdir && mkdir arrayQuality.buildbin-libdir && /Users/biocbuild/BBS/utils/build-universal.sh arrayQuality_1.86.0.tar.gz /Library/Frameworks/R.framework/Resources/bin/R arrayQuality.buildbin-libdir StartedAt: 2025-10-14 12:50:46 -0400 (Tue, 14 Oct 2025) EndedAt: 2025-10-14 12:51:13 -0400 (Tue, 14 Oct 2025) EllapsedTime: 27.5 seconds RetCode: 0 Status: OK PackageFile: arrayQuality_1.86.0.tgz PackageFileSize: 12.17 MiB