Package: arrayQuality Version: 1.86.0 Command: /home/biocbuild/R/R/bin/R CMD INSTALL arrayQuality StartedAt: 2025-10-13 20:15:05 -0000 (Mon, 13 Oct 2025) EndedAt: 2025-10-13 20:15:32 -0000 (Mon, 13 Oct 2025) EllapsedTime: 27.1 seconds RetCode: 0 Status: OK