Package: arrayQuality Version: 1.86.0 Command: /home/biocbuild/R/R/bin/R CMD check --install=check:arrayQuality.install-out.txt --library=/home/biocbuild/R/R/site-library --no-vignettes --timings arrayQuality_1.86.0.tar.gz StartedAt: 2025-10-14 06:15:28 -0000 (Tue, 14 Oct 2025) EndedAt: 2025-10-14 06:16:25 -0000 (Tue, 14 Oct 2025) EllapsedTime: 57.1 seconds RetCode: 0 Status: WARNINGS CheckDir: arrayQuality.Rcheck Warnings: 1