Package: arrayQuality Version: 1.86.0 Command: /Library/Frameworks/R.framework/Resources/bin/R CMD build --keep-empty-dirs --no-resave-data arrayQuality StartedAt: 2025-10-13 19:09:26 -0400 (Mon, 13 Oct 2025) EndedAt: 2025-10-13 19:09:38 -0400 (Mon, 13 Oct 2025) EllapsedTime: 11.3 seconds RetCode: 0 Status: OK PackageFile: arrayQuality_1.86.0.tar.gz PackageFileSize: 12.82 MiB