Package: arrayMvout Version: 1.66.0 Command: /home/biocbuild/bbs-3.21-bioc/R/bin/R CMD INSTALL arrayMvout StartedAt: 2025-10-15 16:00:35 -0400 (Wed, 15 Oct 2025) EndedAt: 2025-10-15 16:01:19 -0400 (Wed, 15 Oct 2025) EllapsedTime: 44.5 seconds RetCode: 0 Status: OK