Package: arrayMvout Version: 1.66.0 Command: /home/biocbuild/R/R/bin/R CMD INSTALL arrayMvout StartedAt: 2025-10-13 21:20:35 -0000 (Mon, 13 Oct 2025) EndedAt: 2025-10-13 21:21:40 -0000 (Mon, 13 Oct 2025) EllapsedTime: 65.2 seconds RetCode: 0 Status: OK