Package: arrayMvout Version: 1.66.0 Command: /home/biocbuild/R/R/bin/R CMD build --keep-empty-dirs --no-resave-data arrayMvout StartedAt: 2025-10-13 22:35:44 -0000 (Mon, 13 Oct 2025) EndedAt: 2025-10-13 22:37:16 -0000 (Mon, 13 Oct 2025) EllapsedTime: 92.0 seconds RetCode: 0 Status: OK PackageFile: arrayMvout_1.66.0.tar.gz PackageFileSize: 684.7 KiB