Package: arrayMvout Version: 1.66.0 Command: /Library/Frameworks/R.framework/Resources/bin/R CMD INSTALL arrayMvout StartedAt: 2025-10-13 18:35:56 -0400 (Mon, 13 Oct 2025) EndedAt: 2025-10-13 18:36:52 -0400 (Mon, 13 Oct 2025) EllapsedTime: 56.4 seconds RetCode: 0 Status: OK