Package: arrayMvout Version: 1.66.0 Command: rm -rf arrayMvout.buildbin-libdir && mkdir arrayMvout.buildbin-libdir && /Users/biocbuild/BBS/utils/build-universal.sh arrayMvout_1.66.0.tar.gz /Library/Frameworks/R.framework/Resources/bin/R arrayMvout.buildbin-libdir StartedAt: 2025-10-15 17:25:21 -0400 (Wed, 15 Oct 2025) EndedAt: 2025-10-15 17:26:23 -0400 (Wed, 15 Oct 2025) EllapsedTime: 62.3 seconds RetCode: 0 Status: OK PackageFile: arrayMvout_1.66.0.tgz PackageFileSize: 857.9 KiB