Package: apeglm Version: 1.30.0 Command: /home/biocbuild/R/R/bin/R CMD INSTALL apeglm StartedAt: 2025-10-13 20:39:15 -0000 (Mon, 13 Oct 2025) EndedAt: 2025-10-13 20:40:45 -0000 (Mon, 13 Oct 2025) EllapsedTime: 89.5 seconds RetCode: 0 Status: OK