Package: apeglm Version: 1.30.0 Command: /home/biocbuild/R/R/bin/R CMD build --keep-empty-dirs --no-resave-data apeglm StartedAt: 2025-10-13 22:35:20 -0000 (Mon, 13 Oct 2025) EndedAt: 2025-10-13 22:37:45 -0000 (Mon, 13 Oct 2025) EllapsedTime: 145.0 seconds RetCode: 0 Status: OK PackageFile: apeglm_1.30.0.tar.gz PackageFileSize: 1.142 MiB