Package: apeglm Version: 1.30.0 Command: /Library/Frameworks/R.framework/Resources/bin/R CMD INSTALL apeglm StartedAt: 2025-10-13 16:46:51 -0400 (Mon, 13 Oct 2025) EndedAt: 2025-10-13 16:47:44 -0400 (Mon, 13 Oct 2025) EllapsedTime: 53.6 seconds RetCode: 0 Status: OK