Package: apeglm Version: 1.30.0 Command: rm -rf apeglm.buildbin-libdir && mkdir apeglm.buildbin-libdir && /Users/biocbuild/BBS/utils/build-universal.sh apeglm_1.30.0.tar.gz /Library/Frameworks/R.framework/Resources/bin/R apeglm.buildbin-libdir StartedAt: 2025-10-15 17:25:02 -0400 (Wed, 15 Oct 2025) EndedAt: 2025-10-15 17:26:04 -0400 (Wed, 15 Oct 2025) EllapsedTime: 62.6 seconds RetCode: 0 Status: OK PackageFile: apeglm_1.30.0.tgz PackageFileSize: 1.389 MiB