Package: apComplex Version: 2.74.0 Command: chmod a+r apComplex -R && E:\biocbuild\bbs-3.21-bioc\R\bin\R.exe CMD build --keep-empty-dirs --no-resave-data apComplex StartedAt: 2025-08-14 17:22:33 -0400 (Thu, 14 Aug 2025) EndedAt: 2025-08-14 17:23:07 -0400 (Thu, 14 Aug 2025) EllapsedTime: 34.3 seconds RetCode: 0 Status: OK PackageFile: apComplex_2.74.0.tar.gz PackageFileSize: 628.1 KiB