Package: apComplex Version: 2.74.0 Command: /home/biocbuild/bbs-3.21-bioc/R/bin/R CMD INSTALL apComplex StartedAt: 2025-10-15 15:29:47 -0400 (Wed, 15 Oct 2025) EndedAt: 2025-10-15 15:30:01 -0400 (Wed, 15 Oct 2025) EllapsedTime: 13.5 seconds RetCode: 0 Status: OK