Package: apComplex Version: 2.74.0 Command: /Library/Frameworks/R.framework/Resources/bin/R CMD INSTALL apComplex StartedAt: 2025-10-13 15:55:38 -0400 (Mon, 13 Oct 2025) EndedAt: 2025-10-13 15:56:07 -0400 (Mon, 13 Oct 2025) EllapsedTime: 29.0 seconds RetCode: 0 Status: OK