Package: apComplex Version: 2.74.0 Command: /Library/Frameworks/R.framework/Resources/bin/R CMD build --keep-empty-dirs --no-resave-data apComplex StartedAt: 2025-10-13 17:04:47 -0400 (Mon, 13 Oct 2025) EndedAt: 2025-10-13 17:05:35 -0400 (Mon, 13 Oct 2025) EllapsedTime: 48.0 seconds RetCode: 0 Status: OK PackageFile: apComplex_2.74.0.tar.gz PackageFileSize: 626.6 KiB