Package: apComplex Version: 2.74.0 Command: /home/biocbuild/R/R/bin/R CMD INSTALL apComplex StartedAt: 2025-10-13 20:45:08 -0000 (Mon, 13 Oct 2025) EndedAt: 2025-10-13 20:45:27 -0000 (Mon, 13 Oct 2025) EllapsedTime: 18.6 seconds RetCode: 0 Status: OK