Package: apComplex Version: 2.74.0 Command: /Library/Frameworks/R.framework/Resources/bin/R CMD INSTALL apComplex StartedAt: 2025-10-13 15:53:05 -0400 (Mon, 13 Oct 2025) EndedAt: 2025-10-13 15:53:21 -0400 (Mon, 13 Oct 2025) EllapsedTime: 15.9 seconds RetCode: 0 Status: OK