Package: apComplex Version: 2.74.0 Command: rm -rf apComplex.buildbin-libdir && mkdir apComplex.buildbin-libdir && /Users/biocbuild/BBS/utils/build-universal.sh apComplex_2.74.0.tar.gz /Library/Frameworks/R.framework/Resources/bin/R apComplex.buildbin-libdir StartedAt: 2025-10-15 17:24:55 -0400 (Wed, 15 Oct 2025) EndedAt: 2025-10-15 17:25:14 -0400 (Wed, 15 Oct 2025) EllapsedTime: 19.3 seconds RetCode: 0 Status: OK PackageFile: apComplex_2.74.0.tgz PackageFileSize: 686.4 KiB