Package: annotatr Version: 1.34.0 Command: /home/biocbuild/bbs-3.21-bioc/R/bin/R CMD build --keep-empty-dirs --no-resave-data annotatr StartedAt: 2025-10-15 16:11:00 -0400 (Wed, 15 Oct 2025) EndedAt: 2025-10-15 16:12:50 -0400 (Wed, 15 Oct 2025) EllapsedTime: 110.2 seconds RetCode: 0 Status: OK PackageFile: annotatr_1.34.0.tar.gz PackageFileSize: 2.646 MiB