Package: annotatr Version: 1.34.0 Command: /Library/Frameworks/R.framework/Resources/bin/R CMD build --keep-empty-dirs --no-resave-data annotatr StartedAt: 2025-10-13 17:03:42 -0400 (Mon, 13 Oct 2025) EndedAt: 2025-10-13 17:07:34 -0400 (Mon, 13 Oct 2025) EllapsedTime: 232.8 seconds RetCode: 0 Status: OK PackageFile: annotatr_1.34.0.tar.gz PackageFileSize: 2.454 MiB