Package: annotatr Version: 1.34.0 Command: /Library/Frameworks/R.framework/Resources/bin/R CMD build --keep-empty-dirs --no-resave-data annotatr StartedAt: 2025-04-21 15:37:47 -0400 (Mon, 21 Apr 2025) EndedAt: 2025-04-21 15:38:37 -0400 (Mon, 21 Apr 2025) EllapsedTime: 49.6 seconds RetCode: 0 Status: OK PackageFile: annotatr_1.34.0.tar.gz PackageFileSize: 2.45 MiB