Package: annotationTools Version: 1.82.0 Command: /home/biocbuild/bbs-3.21-bioc/R/bin/R CMD build --keep-empty-dirs --no-resave-data annotationTools StartedAt: 2025-10-15 16:10:51 -0400 (Wed, 15 Oct 2025) EndedAt: 2025-10-15 16:11:00 -0400 (Wed, 15 Oct 2025) EllapsedTime: 9.0 seconds RetCode: 0 Status: OK PackageFile: annotationTools_1.82.0.tar.gz PackageFileSize: 333.6 KiB