Package: annotationTools Version: 1.82.0 Command: /home/biocbuild/R/R/bin/R CMD build --keep-empty-dirs --no-resave-data annotationTools StartedAt: 2025-10-13 22:34:21 -0000 (Mon, 13 Oct 2025) EndedAt: 2025-10-13 22:34:31 -0000 (Mon, 13 Oct 2025) EllapsedTime: 10.0 seconds RetCode: 0 Status: OK PackageFile: annotationTools_1.82.0.tar.gz PackageFileSize: 326.9 KiB