Package: annotationTools Version: 1.82.0 Command: /Library/Frameworks/R.framework/Resources/bin/R CMD INSTALL annotationTools StartedAt: 2025-10-13 15:34:38 -0400 (Mon, 13 Oct 2025) EndedAt: 2025-10-13 15:34:42 -0400 (Mon, 13 Oct 2025) EllapsedTime: 3.6 seconds RetCode: 0 Status: OK